Package: bandle Version: 1.11.0 Command: /Library/Frameworks/R.framework/Resources/bin/R CMD build --keep-empty-dirs --no-resave-data bandle StartedAt: 2025-02-09 15:56:52 -0500 (Sun, 09 Feb 2025) EndedAt: 2025-02-09 16:01:14 -0500 (Sun, 09 Feb 2025) EllapsedTime: 261.6 seconds RetCode: 0 Status: OK PackageFile: bandle_1.11.0.tar.gz PackageFileSize: 4.209 MiB