Package: bandle Version: 1.11.0 Command: /home/biocbuild/bbs-3.21-bioc/R/bin/R CMD build --keep-empty-dirs --no-resave-data bandle StartedAt: 2025-02-09 16:13:13 -0500 (Sun, 09 Feb 2025) EndedAt: 2025-02-09 16:17:28 -0500 (Sun, 09 Feb 2025) EllapsedTime: 255.2 seconds RetCode: 0 Status: OK PackageFile: bandle_1.11.0.tar.gz PackageFileSize: 4.056 MiB