Package: barcodetrackR Version: 1.15.0 Maintainer: Diego Alexander Espinoza MaintainerEmail: diego.espinoza at pennmedicine.upenn.edu git_url: https://git.bioconductor.org/packages/barcodetrackR git_branch: devel git_last_commit: c0c5333 git_last_commit_date: 2024-10-29 10:57:49 -0500 (Tue, 29 Oct 2024)