Package: barcodetrackR Version: 1.15.0 Command: /Library/Frameworks/R.framework/Resources/bin/R CMD INSTALL barcodetrackR StartedAt: 2025-02-05 15:17:49 -0500 (Wed, 05 Feb 2025) EndedAt: 2025-02-05 15:17:59 -0500 (Wed, 05 Feb 2025) EllapsedTime: 9.9 seconds RetCode: 0 Status: OK