Package: barcodetrackR Version: 1.15.0 Command: rm -rf barcodetrackR.buildbin-libdir && mkdir barcodetrackR.buildbin-libdir && /Users/biocbuild/BBS/utils/build-universal.sh barcodetrackR_1.15.0.tar.gz /Library/Frameworks/R.framework/Resources/bin/R barcodetrackR.buildbin-libdir StartedAt: 2025-02-06 00:19:31 -0500 (Thu, 06 Feb 2025) EndedAt: 2025-02-06 00:20:08 -0500 (Thu, 06 Feb 2025) EllapsedTime: 36.7 seconds RetCode: 0 Status: OK PackageFile: barcodetrackR_1.15.0.tgz PackageFileSize: 3.74 MiB