Package: barcodetrackR Version: 1.15.0 Command: /Library/Frameworks/R.framework/Resources/bin/R CMD build --keep-empty-dirs --no-resave-data barcodetrackR StartedAt: 2025-02-05 15:55:11 -0500 (Wed, 05 Feb 2025) EndedAt: 2025-02-05 15:56:30 -0500 (Wed, 05 Feb 2025) EllapsedTime: 78.9 seconds RetCode: 0 Status: OK PackageFile: barcodetrackR_1.15.0.tar.gz PackageFileSize: 3.546 MiB