Package: barcodetrackR Version: 1.15.0 Command: /Library/Frameworks/R.framework/Resources/bin/R CMD check --install=check:barcodetrackR.install-out.txt --library=/Library/Frameworks/R.framework/Resources/library --no-vignettes --timings barcodetrackR_1.15.0.tar.gz StartedAt: 2025-02-05 18:59:38 -0500 (Wed, 05 Feb 2025) EndedAt: 2025-02-05 19:03:12 -0500 (Wed, 05 Feb 2025) EllapsedTime: 214.0 seconds RetCode: 0 Status: OK CheckDir: barcodetrackR.Rcheck Warnings: 0