Package: barcodetrackR Version: 1.15.0 Command: /Library/Frameworks/R.framework/Resources/bin/R CMD INSTALL barcodetrackR StartedAt: 2025-02-05 15:26:53 -0500 (Wed, 05 Feb 2025) EndedAt: 2025-02-05 15:27:26 -0500 (Wed, 05 Feb 2025) EllapsedTime: 32.6 seconds RetCode: 0 Status: OK