Package: barcodetrackR Version: 1.15.0 Command: /home/biocbuild/bbs-3.21-bioc/R/bin/R CMD check --install=check:barcodetrackR.install-out.txt --library=/home/biocbuild/bbs-3.21-bioc/R/site-library --timings barcodetrackR_1.15.0.tar.gz StartedAt: 2025-02-05 20:09:42 -0500 (Wed, 05 Feb 2025) EndedAt: 2025-02-05 20:13:48 -0500 (Wed, 05 Feb 2025) EllapsedTime: 246.2 seconds RetCode: 0 Status: OK CheckDir: barcodetrackR.Rcheck Warnings: 0