Package: barcodetrackR Version: 1.15.0 Command: /home/biocbuild/bbs-3.21-bioc/R/bin/R CMD INSTALL barcodetrackR StartedAt: 2025-02-05 15:17:48 -0500 (Wed, 05 Feb 2025) EndedAt: 2025-02-05 15:18:15 -0500 (Wed, 05 Feb 2025) EllapsedTime: 26.9 seconds RetCode: 0 Status: OK