Package: barcodetrackR Version: 1.15.0 Command: rm -rf barcodetrackR.buildbin-libdir && mkdir barcodetrackR.buildbin-libdir && E:\biocbuild\bbs-3.21-bioc\R\bin\R.exe CMD INSTALL --build --library=barcodetrackR.buildbin-libdir barcodetrackR_1.15.0.tar.gz StartedAt: 2025-02-06 07:32:41 -0500 (Thu, 06 Feb 2025) EndedAt: 2025-02-06 07:33:42 -0500 (Thu, 06 Feb 2025) EllapsedTime: 61.0 seconds RetCode: 0 Status: OK PackageFile: barcodetrackR_1.15.0.zip PackageFileSize: 2.057 MiB