Package: barcodetrackR Version: 1.15.0 Command: E:\biocbuild\bbs-3.21-bioc\R\bin\R.exe CMD INSTALL barcodetrackR StartedAt: 2025-02-05 16:17:18 -0500 (Wed, 05 Feb 2025) EndedAt: 2025-02-05 16:18:03 -0500 (Wed, 05 Feb 2025) EllapsedTime: 44.7 seconds RetCode: 0 Status: OK