Package: basecallQC Version: 1.31.0 Command: /Library/Frameworks/R.framework/Resources/bin/R CMD INSTALL basecallQC StartedAt: 2025-02-03 15:50:05 -0500 (Mon, 03 Feb 2025) EndedAt: 2025-02-03 15:50:25 -0500 (Mon, 03 Feb 2025) EllapsedTime: 20.2 seconds RetCode: 0 Status: OK