Package: basecallQC Version: 1.31.0 Command: /Library/Frameworks/R.framework/Resources/bin/R CMD check --install=check:basecallQC.install-out.txt --library=/Library/Frameworks/R.framework/Resources/library --no-vignettes --timings basecallQC_1.31.0.tar.gz StartedAt: 2025-02-09 19:09:25 -0500 (Sun, 09 Feb 2025) EndedAt: 2025-02-09 19:17:28 -0500 (Sun, 09 Feb 2025) EllapsedTime: 482.8 seconds RetCode: 0 Status: OK CheckDir: basecallQC.Rcheck Warnings: 0