Package: basecallQC Version: 1.31.0 Command: /Library/Frameworks/R.framework/Resources/bin/R CMD INSTALL basecallQC StartedAt: 2025-02-09 15:25:07 -0500 (Sun, 09 Feb 2025) EndedAt: 2025-02-09 15:26:18 -0500 (Sun, 09 Feb 2025) EllapsedTime: 71.4 seconds RetCode: 0 Status: OK