Package: basecallQC Version: 1.31.0 Command: /home/biocbuild/bbs-3.21-bioc/R/bin/R CMD build --keep-empty-dirs --no-resave-data basecallQC StartedAt: 2025-02-03 16:21:53 -0500 (Mon, 03 Feb 2025) EndedAt: 2025-02-03 16:23:14 -0500 (Mon, 03 Feb 2025) EllapsedTime: 81.1 seconds RetCode: 0 Status: OK PackageFile: basecallQC_1.31.0.tar.gz PackageFileSize: 1.533 MiB