Package: basecallQC Version: 1.31.0 Command: /home/biocbuild/bbs-3.21-bioc/R/bin/R CMD check --install=check:basecallQC.install-out.txt --library=/home/biocbuild/bbs-3.21-bioc/R/site-library --timings basecallQC_1.31.0.tar.gz StartedAt: 2025-02-09 20:10:22 -0500 (Sun, 09 Feb 2025) EndedAt: 2025-02-09 20:18:10 -0500 (Sun, 09 Feb 2025) EllapsedTime: 467.5 seconds RetCode: 0 Status: OK CheckDir: basecallQC.Rcheck Warnings: 0