Package: basecallQC Version: 1.31.0 Command: /home/biocbuild/bbs-3.21-bioc/R/bin/R CMD INSTALL basecallQC StartedAt: 2025-02-09 15:50:21 -0500 (Sun, 09 Feb 2025) EndedAt: 2025-02-09 15:51:13 -0500 (Sun, 09 Feb 2025) EllapsedTime: 52.6 seconds RetCode: 0 Status: OK