Package: basecallQC Version: 1.31.0 Command: rm -rf basecallQC.buildbin-libdir && mkdir basecallQC.buildbin-libdir && E:\biocbuild\bbs-3.21-bioc\R\bin\R.exe CMD INSTALL --build --library=basecallQC.buildbin-libdir basecallQC_1.31.0.tar.gz StartedAt: 2025-02-04 07:30:12 -0500 (Tue, 04 Feb 2025) EndedAt: 2025-02-04 07:31:44 -0500 (Tue, 04 Feb 2025) EllapsedTime: 91.7 seconds RetCode: 0 Status: OK PackageFile: basecallQC_1.31.0.zip PackageFileSize: 1.134 MiB