Package: basecallQC Version: 1.31.0 Command: chmod a+r basecallQC -R && E:\biocbuild\bbs-3.21-bioc\R\bin\R.exe CMD build --keep-empty-dirs --no-resave-data basecallQC StartedAt: 2025-02-03 17:32:51 -0500 (Mon, 03 Feb 2025) EndedAt: 2025-02-03 17:35:07 -0500 (Mon, 03 Feb 2025) EllapsedTime: 136.0 seconds RetCode: 0 Status: OK PackageFile: basecallQC_1.31.0.tar.gz PackageFileSize: 1.394 MiB