Package: basecallQC Version: 1.31.0 Command: E:\biocbuild\bbs-3.21-bioc\R\bin\R.exe CMD check --no-multiarch --install=check:basecallQC.install-out.txt --library=E:\biocbuild\bbs-3.21-bioc\R\library --no-vignettes --timings basecallQC_1.31.0.tar.gz StartedAt: 2025-02-09 22:46:28 -0500 (Sun, 09 Feb 2025) EndedAt: 2025-02-09 22:54:48 -0500 (Sun, 09 Feb 2025) EllapsedTime: 500.2 seconds RetCode: 0 Status: OK CheckDir: basecallQC.Rcheck Warnings: 0