Package: basilisk.utils Version: 1.19.0 Command: /Library/Frameworks/R.framework/Resources/bin/R CMD INSTALL basilisk.utils StartedAt: 2025-02-09 15:06:39 -0500 (Sun, 09 Feb 2025) EndedAt: 2025-02-09 15:07:07 -0500 (Sun, 09 Feb 2025) EllapsedTime: 27.5 seconds RetCode: 0 Status: OK