Package: basilisk.utils Version: 1.19.0 Command: chmod a+r basilisk.utils -R && E:\biocbuild\bbs-3.21-bioc\R\bin\R.exe CMD build --keep-empty-dirs --no-resave-data basilisk.utils StartedAt: 2025-02-09 17:20:48 -0500 (Sun, 09 Feb 2025) EndedAt: 2025-02-09 17:21:05 -0500 (Sun, 09 Feb 2025) EllapsedTime: 17.0 seconds RetCode: 0 Status: OK PackageFile: basilisk.utils_1.19.0.tar.gz PackageFileSize: 235 KiB