Package: bayNorm Version: 1.25.0 Command: /Library/Frameworks/R.framework/Resources/bin/R CMD build --keep-empty-dirs --no-resave-data bayNorm StartedAt: 2025-02-09 15:37:07 -0500 (Sun, 09 Feb 2025) EndedAt: 2025-02-09 15:37:29 -0500 (Sun, 09 Feb 2025) EllapsedTime: 22.2 seconds RetCode: 0 Status: OK PackageFile: bayNorm_1.25.0.tar.gz PackageFileSize: 1.526 MiB