Package: bayNorm Version: 1.25.0 Command: /Library/Frameworks/R.framework/Resources/bin/R CMD check --install=check:bayNorm.install-out.txt --library=/Library/Frameworks/R.framework/Resources/library --no-vignettes --timings bayNorm_1.25.0.tar.gz StartedAt: 2025-02-09 18:10:21 -0500 (Sun, 09 Feb 2025) EndedAt: 2025-02-09 18:11:28 -0500 (Sun, 09 Feb 2025) EllapsedTime: 66.8 seconds RetCode: 0 Status: OK CheckDir: bayNorm.Rcheck Warnings: 0