Package: bayNorm Version: 1.25.0 Command: /Library/Frameworks/R.framework/Resources/bin/R CMD build --keep-empty-dirs --no-resave-data bayNorm StartedAt: 2025-02-04 15:56:15 -0500 (Tue, 04 Feb 2025) EndedAt: 2025-02-04 15:57:19 -0500 (Tue, 04 Feb 2025) EllapsedTime: 63.9 seconds RetCode: 0 Status: OK PackageFile: bayNorm_1.25.0.tar.gz PackageFileSize: 1.526 MiB