Package: bayNorm Version: 1.25.0 Command: /Library/Frameworks/R.framework/Resources/bin/R CMD check --install=check:bayNorm.install-out.txt --library=/Library/Frameworks/R.framework/Resources/library --no-vignettes --timings bayNorm_1.25.0.tar.gz StartedAt: 2025-02-04 19:02:11 -0500 (Tue, 04 Feb 2025) EndedAt: 2025-02-04 19:05:17 -0500 (Tue, 04 Feb 2025) EllapsedTime: 185.6 seconds RetCode: 0 Status: OK CheckDir: bayNorm.Rcheck Warnings: 0