Package: bayNorm Version: 1.25.0 Command: /Library/Frameworks/R.framework/Resources/bin/R CMD INSTALL bayNorm StartedAt: 2025-02-04 15:31:55 -0500 (Tue, 04 Feb 2025) EndedAt: 2025-02-04 15:32:47 -0500 (Tue, 04 Feb 2025) EllapsedTime: 52.5 seconds RetCode: 0 Status: OK