Package: bayNorm Version: 1.25.0 Command: /home/biocbuild/bbs-3.21-bioc/R/bin/R CMD build --keep-empty-dirs --no-resave-data bayNorm StartedAt: 2025-02-09 16:15:06 -0500 (Sun, 09 Feb 2025) EndedAt: 2025-02-09 16:16:11 -0500 (Sun, 09 Feb 2025) EllapsedTime: 65.0 seconds RetCode: 0 Status: OK PackageFile: bayNorm_1.25.0.tar.gz PackageFileSize: 1.526 MiB