Package: bayNorm Version: 1.25.0 Command: /home/biocbuild/bbs-3.21-bioc/R/bin/R CMD check --install=check:bayNorm.install-out.txt --library=/home/biocbuild/bbs-3.21-bioc/R/site-library --timings bayNorm_1.25.0.tar.gz StartedAt: 2025-02-09 20:13:04 -0500 (Sun, 09 Feb 2025) EndedAt: 2025-02-09 20:16:17 -0500 (Sun, 09 Feb 2025) EllapsedTime: 193.2 seconds RetCode: 0 Status: OK CheckDir: bayNorm.Rcheck Warnings: 0