Package: bayNorm Version: 1.25.0 Command: /home/biocbuild/bbs-3.21-bioc/R/bin/R CMD INSTALL bayNorm StartedAt: 2025-02-04 15:17:17 -0500 (Tue, 04 Feb 2025) EndedAt: 2025-02-04 15:18:02 -0500 (Tue, 04 Feb 2025) EllapsedTime: 45.5 seconds RetCode: 0 Status: OK