Package: baySeq Version: 2.41.0 Command: /home/biocbuild/R/R/bin/R CMD INSTALL baySeq StartedAt: 2025-01-29 19:38:36 -0000 (Wed, 29 Jan 2025) EndedAt: 2025-01-29 19:39:00 -0000 (Wed, 29 Jan 2025) EllapsedTime: 23.7 seconds RetCode: 0 Status: OK