Package: baySeq Version: 2.41.0 Command: /Library/Frameworks/R.framework/Resources/bin/R CMD build --keep-empty-dirs --no-resave-data baySeq StartedAt: 2025-02-09 15:58:24 -0500 (Sun, 09 Feb 2025) EndedAt: 2025-02-09 16:04:58 -0500 (Sun, 09 Feb 2025) EllapsedTime: 394.0 seconds RetCode: 0 Status: OK PackageFile: baySeq_2.41.0.tar.gz PackageFileSize: 1.125 MiB