Package: baySeq Version: 2.41.0 Command: /home/biocbuild/bbs-3.21-bioc/R/bin/R CMD build --keep-empty-dirs --no-resave-data baySeq StartedAt: 2025-02-12 16:14:35 -0500 (Wed, 12 Feb 2025) EndedAt: 2025-02-12 16:20:22 -0500 (Wed, 12 Feb 2025) EllapsedTime: 347.3 seconds RetCode: 0 Status: OK PackageFile: baySeq_2.41.0.tar.gz PackageFileSize: 1.125 MiB