Package: baySeq Version: 2.41.0 Command: /home/biocbuild/bbs-3.21-bioc/R/bin/R CMD check --install=check:baySeq.install-out.txt --library=/home/biocbuild/bbs-3.21-bioc/R/site-library --timings baySeq_2.41.0.tar.gz StartedAt: 2025-02-12 20:09:18 -0500 (Wed, 12 Feb 2025) EndedAt: 2025-02-12 20:17:44 -0500 (Wed, 12 Feb 2025) EllapsedTime: 505.5 seconds RetCode: 0 Status: OK CheckDir: baySeq.Rcheck Warnings: 0