Package: baySeq Version: 2.41.0 Command: /home/biocbuild/bbs-3.21-bioc/R/bin/R CMD INSTALL baySeq StartedAt: 2025-02-12 15:16:03 -0500 (Wed, 12 Feb 2025) EndedAt: 2025-02-12 15:16:19 -0500 (Wed, 12 Feb 2025) EllapsedTime: 16.6 seconds RetCode: 0 Status: OK