Package: bcSeq Version: 1.29.0 Command: /Library/Frameworks/R.framework/Resources/bin/R CMD check --install=check:bcSeq.install-out.txt --library=/Library/Frameworks/R.framework/Resources/library --no-vignettes --timings bcSeq_1.29.0.tar.gz StartedAt: 2025-02-09 19:12:24 -0500 (Sun, 09 Feb 2025) EndedAt: 2025-02-09 19:14:12 -0500 (Sun, 09 Feb 2025) EllapsedTime: 107.9 seconds RetCode: 0 Status: OK CheckDir: bcSeq.Rcheck Warnings: 0