Package: bcSeq Version: 1.29.0 Command: /home/biocbuild/bbs-3.21-bioc/R/bin/R CMD check --install=check:bcSeq.install-out.txt --library=/home/biocbuild/bbs-3.21-bioc/R/site-library --timings bcSeq_1.29.0.tar.gz StartedAt: 2025-02-12 20:10:30 -0500 (Wed, 12 Feb 2025) EndedAt: 2025-02-12 20:12:15 -0500 (Wed, 12 Feb 2025) EllapsedTime: 105.1 seconds RetCode: 0 Status: OK CheckDir: bcSeq.Rcheck Warnings: 0