Package: beachmat.hdf5 Version: 1.5.1 Command: /Library/Frameworks/R.framework/Resources/bin/R CMD build --keep-empty-dirs --no-resave-data beachmat.hdf5 StartedAt: 2025-02-09 15:37:59 -0500 (Sun, 09 Feb 2025) EndedAt: 2025-02-09 15:38:20 -0500 (Sun, 09 Feb 2025) EllapsedTime: 21.2 seconds RetCode: 0 Status: OK PackageFile: beachmat.hdf5_1.5.1.tar.gz PackageFileSize: 297.1 KiB