Package: beachmat.hdf5 Version: 1.5.1 Command: /home/biocbuild/bbs-3.21-bioc/R/bin/R CMD INSTALL beachmat.hdf5 StartedAt: 2025-02-12 15:34:54 -0500 (Wed, 12 Feb 2025) EndedAt: 2025-02-12 15:36:04 -0500 (Wed, 12 Feb 2025) EllapsedTime: 69.9 seconds RetCode: 0 Status: OK