Package: beachmat.hdf5 Version: 1.5.1 Command: rm -rf beachmat.hdf5.buildbin-libdir && mkdir beachmat.hdf5.buildbin-libdir && E:\biocbuild\bbs-3.21-bioc\R\bin\R.exe CMD INSTALL --build --library=beachmat.hdf5.buildbin-libdir beachmat.hdf5_1.5.1.tar.gz StartedAt: 2025-02-10 07:16:14 -0500 (Mon, 10 Feb 2025) EndedAt: 2025-02-10 07:17:35 -0500 (Mon, 10 Feb 2025) EllapsedTime: 80.6 seconds RetCode: 0 Status: OK PackageFile: beachmat.hdf5_1.5.1.zip PackageFileSize: 1.946 MiB