Package: beachmat Version: 2.23.6 Command: /home/biocbuild/bbs-3.21-bioc/R/bin/R CMD build --keep-empty-dirs --no-resave-data beachmat StartedAt: 2025-02-12 16:15:29 -0500 (Wed, 12 Feb 2025) EndedAt: 2025-02-12 16:20:38 -0500 (Wed, 12 Feb 2025) EllapsedTime: 309.3 seconds RetCode: 0 Status: OK PackageFile: beachmat_2.23.6.tar.gz PackageFileSize: 368.6 KiB