Package: beachmat Version: 2.23.6 Command: /home/biocbuild/bbs-3.21-bioc/R/bin/R CMD INSTALL beachmat StartedAt: 2025-02-09 15:15:57 -0500 (Sun, 09 Feb 2025) EndedAt: 2025-02-09 15:20:43 -0500 (Sun, 09 Feb 2025) EllapsedTime: 286.1 seconds RetCode: 0 Status: OK