Package: beadarray Version: 2.57.0 Command: rm -rf beadarray.buildbin-libdir && mkdir beadarray.buildbin-libdir && /Users/biocbuild/BBS/utils/build-universal.sh beadarray_2.57.0.tar.gz /Library/Frameworks/R.framework/Resources/bin/R beadarray.buildbin-libdir StartedAt: 2025-02-09 22:06:52 -0500 (Sun, 09 Feb 2025) EndedAt: 2025-02-09 22:07:05 -0500 (Sun, 09 Feb 2025) EllapsedTime: 13.3 seconds RetCode: 0 Status: OK PackageFile: beadarray_2.57.0.tgz PackageFileSize: 6.465 MiB