Package: beadarray Version: 2.57.0 Command: /Library/Frameworks/R.framework/Resources/bin/R CMD build --keep-empty-dirs --no-resave-data beadarray StartedAt: 2025-02-09 15:38:03 -0500 (Sun, 09 Feb 2025) EndedAt: 2025-02-09 15:39:09 -0500 (Sun, 09 Feb 2025) EllapsedTime: 66.7 seconds RetCode: 0 Status: OK PackageFile: beadarray_2.57.0.tar.gz PackageFileSize: 4.312 MiB