Package: beadarray Version: 2.57.0 Command: /Library/Frameworks/R.framework/Resources/bin/R CMD check --install=check:beadarray.install-out.txt --library=/Library/Frameworks/R.framework/Resources/library --no-vignettes --timings beadarray_2.57.0.tar.gz StartedAt: 2025-02-12 18:11:56 -0500 (Wed, 12 Feb 2025) EndedAt: 2025-02-12 18:14:41 -0500 (Wed, 12 Feb 2025) EllapsedTime: 165.1 seconds RetCode: 0 Status: OK CheckDir: beadarray.Rcheck Warnings: 0