Package: beadarray Version: 2.57.0 Command: /home/biocbuild/bbs-3.21-bioc/R/bin/R CMD check --install=check:beadarray.install-out.txt --library=/home/biocbuild/bbs-3.21-bioc/R/site-library --timings beadarray_2.57.0.tar.gz StartedAt: 2025-02-09 20:16:15 -0500 (Sun, 09 Feb 2025) EndedAt: 2025-02-09 20:25:14 -0500 (Sun, 09 Feb 2025) EllapsedTime: 539.7 seconds RetCode: 0 Status: OK CheckDir: beadarray.Rcheck Warnings: 0