Package: beadarray Version: 2.57.0 Command: /home/biocbuild/bbs-3.21-bioc/R/bin/R CMD INSTALL beadarray StartedAt: 2025-02-09 15:29:19 -0500 (Sun, 09 Feb 2025) EndedAt: 2025-02-09 15:29:45 -0500 (Sun, 09 Feb 2025) EllapsedTime: 25.7 seconds RetCode: 0 Status: OK