Package: beadarray Version: 2.57.0 Command: E:\biocbuild\bbs-3.21-bioc\R\bin\R.exe CMD INSTALL beadarray StartedAt: 2025-02-09 15:50:24 -0500 (Sun, 09 Feb 2025) EndedAt: 2025-02-09 15:52:25 -0500 (Sun, 09 Feb 2025) EllapsedTime: 120.8 seconds RetCode: 0 Status: OK