Package: beer Version: 1.11.0 Command: /Library/Frameworks/R.framework/Resources/bin/R CMD build --keep-empty-dirs --no-resave-data beer StartedAt: 2025-02-09 15:38:49 -0500 (Sun, 09 Feb 2025) EndedAt: 2025-02-09 15:39:48 -0500 (Sun, 09 Feb 2025) EllapsedTime: 58.6 seconds RetCode: 0 Status: OK PackageFile: beer_1.11.0.tar.gz PackageFileSize: 610.7 KiB